BEGIN:VCALENDAR
VERSION:2.0
PRODID:-//Starfish Swimming Club - ECPv5.15.0//NONSGML v1.0//EN
CALSCALE:GREGORIAN
METHOD:PUBLISH
X-WR-CALNAME:Starfish Swimming Club
X-ORIGINAL-URL:https://starfish-swimming.org.uk
X-WR-CALDESC:Events for Starfish Swimming Club
BEGIN:VTIMEZONE
TZID:UTC
BEGIN:STANDARD
TZOFFSETFROM:+0000
TZOFFSETTO:+0000
TZNAME:UTC
DTSTART:20220101T000000
END:STANDARD
END:VTIMEZONE
BEGIN:VEVENT
DTSTART;TZID=UTC:20220717T080000
DTEND;TZID=UTC:20220717T170000
DTSTAMP:20260422T070309
CREATED:20220312T174442Z
LAST-MODIFIED:20220312T174442Z
UID:2556-1658044800-1658077200@starfish-swimming.org.uk
SUMMARY:Summer Party (TBC)
DESCRIPTION:
URL:https://starfish-swimming.org.uk/event/summer-party-tbc/
CATEGORIES:Public
END:VEVENT
END:VCALENDAR