BEGIN:VCALENDAR
VERSION:2.0
PRODID:-//Starfish Swimming Club - ECPv5.15.0//NONSGML v1.0//EN
CALSCALE:GREGORIAN
METHOD:PUBLISH
X-WR-CALNAME:Starfish Swimming Club
X-ORIGINAL-URL:https://starfish-swimming.org.uk
X-WR-CALDESC:Events for Starfish Swimming Club
BEGIN:VTIMEZONE
TZID:UTC
BEGIN:STANDARD
TZOFFSETFROM:+0000
TZOFFSETTO:+0000
TZNAME:UTC
DTSTART:20250101T000000
END:STANDARD
END:VTIMEZONE
BEGIN:VEVENT
DTSTART;TZID=UTC:20250215T170000
DTEND;TZID=UTC:20250215T180000
DTSTAMP:20260421T094709
CREATED:20250105T143334Z
LAST-MODIFIED:20250105T143352Z
UID:3030-1739638800-1739642400@starfish-swimming.org.uk
SUMMARY:Starfish Internal Gala - Braywick
DESCRIPTION:
URL:https://starfish-swimming.org.uk/event/starfish-internal-gala-braywick/
LOCATION:Braywick Swimming Pool\, Braywick Road\, Maidenhead\, SL6 1BN\, United Kingdom
CATEGORIES:Braywick swimming,Gala Dates
END:VEVENT
END:VCALENDAR