BEGIN:VCALENDAR
VERSION:2.0
PRODID:-//Starfish Swimming Club - ECPv5.15.0//NONSGML v1.0//EN
CALSCALE:GREGORIAN
METHOD:PUBLISH
X-WR-CALNAME:Starfish Swimming Club
X-ORIGINAL-URL:https://starfish-swimming.org.uk
X-WR-CALDESC:Events for Starfish Swimming Club
BEGIN:VTIMEZONE
TZID:UTC
BEGIN:STANDARD
TZOFFSETFROM:+0000
TZOFFSETTO:+0000
TZNAME:UTC
DTSTART:20220101T000000
END:STANDARD
END:VTIMEZONE
BEGIN:VEVENT
DTSTART;TZID=UTC:20220625T170000
DTEND;TZID=UTC:20220625T183000
DTSTAMP:20260422T070321
CREATED:20220312T171421Z
LAST-MODIFIED:20220624T142409Z
UID:2542-1656176400-1656181800@starfish-swimming.org.uk
SUMMARY:St Pirans Family Fun Session
DESCRIPTION:Dear All \nUnfortunately we have no teachers available to teach this coming Saturday 25th June.  As you know\, this session is scheduled for St. Pirans pool.  Therefore we will run a family fun session at St Pirans.  \n(If you were informed otherwise at last Saturday’s session\, please accept our apologies.) \nDue to the pool size\, the split session will be in operation as normal at St Pirans as follows:\n17.00 – 17.40 = assisted swimmers\n17.40 – 18.30 = lane swimmers \nPlease note\, as always for family fun sessions\, Starfish members and siblings who are swimming\, MUST have a responsible parent/ adult / carer in the water with them to ensure safety \nKind regards\,\nStarfish Committee
URL:https://starfish-swimming.org.uk/event/st-pirans-swim-session-2/
LOCATION:St Piran’s School Swimming Pool\, Gringer Hill\, Maidenhead\, Maidenhead\, SL6 7LZ\, United Kingdom
CATEGORIES:Public,St Pirans Swimming,Swim Sessions
END:VEVENT
END:VCALENDAR