BEGIN:VCALENDAR
VERSION:2.0
PRODID:-//Starfish Swimming Club - ECPv5.15.0//NONSGML v1.0//EN
CALSCALE:GREGORIAN
METHOD:PUBLISH
X-WR-CALNAME:Starfish Swimming Club
X-ORIGINAL-URL:https://starfish-swimming.org.uk
X-WR-CALDESC:Events for Starfish Swimming Club
BEGIN:VTIMEZONE
TZID:UTC
BEGIN:STANDARD
TZOFFSETFROM:+0000
TZOFFSETTO:+0000
TZNAME:UTC
DTSTART:20240101T000000
END:STANDARD
END:VTIMEZONE
BEGIN:VEVENT
DTSTART;TZID=UTC:20241214T170000
DTEND;TZID=UTC:20241214T200000
DTSTAMP:20260421T113027
CREATED:20240518T165014Z
LAST-MODIFIED:20240518T165014Z
UID:2975-1734195600-1734206400@starfish-swimming.org.uk
SUMMARY:Family fun session & Award party
DESCRIPTION:Gala 18:30
URL:https://starfish-swimming.org.uk/event/family-fun-session-award-party/
LOCATION:Braywick Swimming Pool\, Braywick Road\, Maidenhead\, SL6 1BN\, United Kingdom
CATEGORIES:Braywick swimming,Public,Social and Fund Raising,Swim Sessions
END:VEVENT
END:VCALENDAR