BEGIN:VCALENDAR
VERSION:2.0
PRODID:-//Starfish Swimming Club - ECPv5.15.0//NONSGML v1.0//EN
CALSCALE:GREGORIAN
METHOD:PUBLISH
X-WR-CALNAME:Starfish Swimming Club
X-ORIGINAL-URL:https://starfish-swimming.org.uk
X-WR-CALDESC:Events for Starfish Swimming Club
BEGIN:VTIMEZONE
TZID:UTC
BEGIN:STANDARD
TZOFFSETFROM:+0000
TZOFFSETTO:+0000
TZNAME:UTC
DTSTART:20200101T000000
END:STANDARD
END:VTIMEZONE
BEGIN:VEVENT
DTSTART;VALUE=DATE:20200212
DTEND;VALUE=DATE:20200213
DTSTAMP:20260421T134244
CREATED:20190402T041004Z
LAST-MODIFIED:20200122T234202Z
UID:422-1581465600-1581551999@starfish-swimming.org.uk
SUMMARY:Committee meeting
DESCRIPTION:
URL:https://starfish-swimming.org.uk/event/committee-meeting/
LOCATION:Magnet
CATEGORIES:Committee Meetings
END:VEVENT
END:VCALENDAR