BEGIN:VCALENDAR
VERSION:2.0
PRODID:-//Starfish Swimming Club - ECPv5.15.0//NONSGML v1.0//EN
CALSCALE:GREGORIAN
METHOD:PUBLISH
X-WR-CALNAME:Starfish Swimming Club
X-ORIGINAL-URL:https://starfish-swimming.org.uk
X-WR-CALDESC:Events for Starfish Swimming Club
BEGIN:VTIMEZONE
TZID:UTC
BEGIN:STANDARD
TZOFFSETFROM:+0000
TZOFFSETTO:+0000
TZNAME:UTC
DTSTART:20220101T000000
END:STANDARD
END:VTIMEZONE
BEGIN:VEVENT
DTSTART;TZID=UTC:20220413T193000
DTEND;TZID=UTC:20220413T210000
DTSTAMP:20260422T070458
CREATED:20220305T171759Z
LAST-MODIFIED:20220305T171759Z
UID:2514-1649878200-1649883600@starfish-swimming.org.uk
SUMMARY:Committee meeting (MS Teams)
DESCRIPTION:
URL:https://starfish-swimming.org.uk/event/committee-meeting-ms-teams/
CATEGORIES:Braywick swimming,Public,Swim Sessions
END:VEVENT
END:VCALENDAR