BEGIN:VCALENDAR
VERSION:2.0
PRODID:-//Starfish Swimming Club - ECPv5.15.0//NONSGML v1.0//EN
CALSCALE:GREGORIAN
METHOD:PUBLISH
X-WR-CALNAME:Starfish Swimming Club
X-ORIGINAL-URL:https://starfish-swimming.org.uk
X-WR-CALDESC:Events for Starfish Swimming Club
BEGIN:VTIMEZONE
TZID:UTC
BEGIN:STANDARD
TZOFFSETFROM:+0000
TZOFFSETTO:+0000
TZNAME:UTC
DTSTART:20230101T000000
END:STANDARD
END:VTIMEZONE
BEGIN:VEVENT
DTSTART;TZID=UTC:20230208T193000
DTEND;TZID=UTC:20230208T210000
DTSTAMP:20260422T005906
CREATED:20230128T141713Z
LAST-MODIFIED:20230128T142439Z
UID:2665-1675884600-1675890000@starfish-swimming.org.uk
SUMMARY:Committee meeting
DESCRIPTION:
URL:https://starfish-swimming.org.uk/event/committee-meeting-5/
LOCATION:Microsoft Team meeting
CATEGORIES:Committee Meetings,Public
END:VEVENT
END:VCALENDAR