BEGIN:VCALENDAR
VERSION:2.0
PRODID:-//Starfish Swimming Club - ECPv5.15.0//NONSGML v1.0//EN
CALSCALE:GREGORIAN
METHOD:PUBLISH
X-WR-CALNAME:Starfish Swimming Club
X-ORIGINAL-URL:https://starfish-swimming.org.uk
X-WR-CALDESC:Events for Starfish Swimming Club
BEGIN:VTIMEZONE
TZID:UTC
BEGIN:STANDARD
TZOFFSETFROM:+0000
TZOFFSETTO:+0000
TZNAME:UTC
DTSTART:20250101T000000
END:STANDARD
END:VTIMEZONE
BEGIN:VEVENT
DTSTART;TZID=UTC:20250611T000000
DTEND;TZID=UTC:20250611T000000
DTSTAMP:20260421T102049
CREATED:20250518T090417Z
LAST-MODIFIED:20250518T092506Z
UID:3028-1749600000-1749600000@starfish-swimming.org.uk
SUMMARY:Committee Meeting - Times TBC
DESCRIPTION:MS Teams Meeting – Times TBC
URL:https://starfish-swimming.org.uk/event/committee-meeting-13/
LOCATION:Microsoft Team meeting
CATEGORIES:Committee Meetings
END:VEVENT
END:VCALENDAR