BEGIN:VCALENDAR
VERSION:2.0
PRODID:-//Starfish Swimming Club - ECPv5.15.0//NONSGML v1.0//EN
CALSCALE:GREGORIAN
METHOD:PUBLISH
X-WR-CALNAME:Starfish Swimming Club
X-ORIGINAL-URL:https://starfish-swimming.org.uk
X-WR-CALDESC:Events for Starfish Swimming Club
BEGIN:VTIMEZONE
TZID:UTC
BEGIN:STANDARD
TZOFFSETFROM:+0000
TZOFFSETTO:+0000
TZNAME:UTC
DTSTART:20240101T000000
END:STANDARD
END:VTIMEZONE
BEGIN:VEVENT
DTSTART;TZID=UTC:20240911T193000
DTEND;TZID=UTC:20240911T210000
DTSTAMP:20260421T142239
CREATED:20240504T164019Z
LAST-MODIFIED:20240504T164019Z
UID:2942-1726083000-1726088400@starfish-swimming.org.uk
SUMMARY:Committee meeting
DESCRIPTION:
URL:https://starfish-swimming.org.uk/event/committee-meeting-12/
LOCATION:Microsoft Team meeting
CATEGORIES:Committee Meetings,Public
END:VEVENT
END:VCALENDAR