BEGIN:VCALENDAR
VERSION:2.0
PRODID:-//Starfish Swimming Club - ECPv5.15.0//NONSGML v1.0//EN
CALSCALE:GREGORIAN
METHOD:PUBLISH
X-WR-CALNAME:Starfish Swimming Club
X-ORIGINAL-URL:https://starfish-swimming.org.uk
X-WR-CALDESC:Events for Starfish Swimming Club
BEGIN:VTIMEZONE
TZID:UTC
BEGIN:STANDARD
TZOFFSETFROM:+0000
TZOFFSETTO:+0000
TZNAME:UTC
DTSTART:20230101T000000
END:STANDARD
END:VTIMEZONE
BEGIN:VEVENT
DTSTART;TZID=UTC:20230722T170000
DTEND;TZID=UTC:20230722T180000
DTSTAMP:20260421T203341
CREATED:20230504T105200Z
LAST-MODIFIED:20230718T214121Z
UID:2742-1690045200-1690048800@starfish-swimming.org.uk
SUMMARY:Family fun session
DESCRIPTION:
URL:https://starfish-swimming.org.uk/event/braywick-swim-session-93/
LOCATION:Braywick Swimming Pool\, Braywick Road\, Maidenhead\, SL6 1BN\, United Kingdom
CATEGORIES:Braywick swimming,Public,Swim Sessions
END:VEVENT
END:VCALENDAR