BEGIN:VCALENDAR
VERSION:2.0
PRODID:-//Starfish Swimming Club - ECPv5.15.0//NONSGML v1.0//EN
CALSCALE:GREGORIAN
METHOD:PUBLISH
X-WR-CALNAME:Starfish Swimming Club
X-ORIGINAL-URL:https://starfish-swimming.org.uk
X-WR-CALDESC:Events for Starfish Swimming Club
BEGIN:VTIMEZONE
TZID:UTC
BEGIN:STANDARD
TZOFFSETFROM:+0000
TZOFFSETTO:+0000
TZNAME:UTC
DTSTART:20230101T000000
END:STANDARD
END:VTIMEZONE
BEGIN:VEVENT
DTSTART;TZID=UTC:20230401T170000
DTEND;TZID=UTC:20230401T180000
DTSTAMP:20260422T010259
CREATED:20230226T201329Z
LAST-MODIFIED:20230226T201329Z
UID:2682-1680368400-1680372000@starfish-swimming.org.uk
SUMMARY:Braywick swim session
DESCRIPTION:
URL:https://starfish-swimming.org.uk/event/braywick-swim-session-81/
LOCATION:Braywick Swimming Pool\, Braywick Road\, Maidenhead\, SL6 1BN\, United Kingdom
CATEGORIES:Braywick swimming,Public,Swim Sessions
END:VEVENT
END:VCALENDAR