BEGIN:VCALENDAR
VERSION:2.0
PRODID:-//Starfish Swimming Club - ECPv5.15.0//NONSGML v1.0//EN
CALSCALE:GREGORIAN
METHOD:PUBLISH
X-WR-CALNAME:Starfish Swimming Club
X-ORIGINAL-URL:https://starfish-swimming.org.uk
X-WR-CALDESC:Events for Starfish Swimming Club
BEGIN:VTIMEZONE
TZID:UTC
BEGIN:STANDARD
TZOFFSETFROM:+0000
TZOFFSETTO:+0000
TZNAME:UTC
DTSTART:20220101T000000
END:STANDARD
END:VTIMEZONE
BEGIN:VEVENT
DTSTART;TZID=UTC:20220319T170000
DTEND;TZID=UTC:20220319T180000
DTSTAMP:20260422T083547
CREATED:20220305T170024Z
LAST-MODIFIED:20220318T225727Z
UID:2506-1647709200-1647712800@starfish-swimming.org.uk
SUMMARY:Braywick family fun session (NEW)
DESCRIPTION:Dear All \nFirstly\, this distribution list is November 21\, therefore please forward it to anyone who you notice is not included\, especially new members – thank you.  Also\, William\, could you please update the web site? \nApologies for the late notice but we learned today that we do not have enough teachers available on 19th March to run a teaching session.   \nThe pool is available therefore we will still run the session as a ‘family fun session’ but there will be no teaching.   \nFamily members are welcome to attend and swim and Braywick have confirmed that the slide will be open for us and that they have sufficient staff to accommodate this.   \nPlease note that this is strictly on the basis that Starfish members and siblings will have a responsible adult / carer in the water with them to ensure safeguarding.  \nKind regards and again\, apologies for the late notice.\nPeter
URL:https://starfish-swimming.org.uk/event/braywick-swim-session-44/
LOCATION:Braywick Dance Studio\, Braywick Leisure Centre\, Maidenhead\, Berks\, Sl6 1DJ\, United Kingdom
CATEGORIES:Braywick swimming,Public,Swim Sessions
END:VEVENT
END:VCALENDAR