BEGIN:VCALENDAR
VERSION:2.0
PRODID:-//Starfish Swimming Club - ECPv5.15.0//NONSGML v1.0//EN
CALSCALE:GREGORIAN
METHOD:PUBLISH
X-WR-CALNAME:Starfish Swimming Club
X-ORIGINAL-URL:https://starfish-swimming.org.uk
X-WR-CALDESC:Events for Starfish Swimming Club
BEGIN:VTIMEZONE
TZID:UTC
BEGIN:STANDARD
TZOFFSETFROM:+0000
TZOFFSETTO:+0000
TZNAME:UTC
DTSTART:20200101T000000
END:STANDARD
END:VTIMEZONE
BEGIN:VEVENT
DTSTART;TZID=UTC:20201105T170000
DTEND;TZID=UTC:20201204T230000
DTSTAMP:20260422T034012
CREATED:20201027T142005Z
LAST-MODIFIED:20201104T220910Z
UID:1279-1604595600-1607122800@starfish-swimming.org.uk
SUMMARY:No session due to National Lockdown
DESCRIPTION:Dear All \nI am writing to you with sadness but not surprisingly to confirm that Starfish will once again be suspended for a second national lockdown as announced by the Government. \nI hope that we will be able to restart the restart back in the pool on Saturday 5th December\, but in the meantime hope that nothing changes and the hopeful happens. \nPlease stay safe and sensible.\nWe will keep you all informed as and when we know anything. \nKind wishes from all the Starfish Committee \nChairman\nWindsor and Maidenhead Starfish Swim Club
URL:https://starfish-swimming.org.uk/event/braywick-swim-session-3/
CATEGORIES:Club Closures,Public
END:VEVENT
END:VCALENDAR