BEGIN:VCALENDAR
VERSION:2.0
PRODID:-//Starfish Swimming Club - ECPv5.15.0//NONSGML v1.0//EN
CALSCALE:GREGORIAN
METHOD:PUBLISH
X-WR-CALNAME:Starfish Swimming Club
X-ORIGINAL-URL:https://starfish-swimming.org.uk
X-WR-CALDESC:Events for Starfish Swimming Club
BEGIN:VTIMEZONE
TZID:UTC
BEGIN:STANDARD
TZOFFSETFROM:+0000
TZOFFSETTO:+0000
TZNAME:UTC
DTSTART:20210101T000000
END:STANDARD
END:VTIMEZONE
BEGIN:VEVENT
DTSTART;TZID=UTC:20211106T170000
DTEND;TZID=UTC:20211106T180000
DTSTAMP:20260421T132417
CREATED:20211023T065733Z
LAST-MODIFIED:20211023T065733Z
UID:1442-1636218000-1636221600@starfish-swimming.org.uk
SUMMARY:Braywick swim session
DESCRIPTION:
URL:https://starfish-swimming.org.uk/event/braywick-swim-session-28/
LOCATION:Braywick Swimming Pool\, Braywick Road\, Maidenhead\, SL6 1BN\, United Kingdom
CATEGORIES:Braywick swimming,Public,Swim Sessions
END:VEVENT
END:VCALENDAR