BEGIN:VCALENDAR
VERSION:2.0
PRODID:-//Starfish Swimming Club - ECPv5.15.0//NONSGML v1.0//EN
CALSCALE:GREGORIAN
METHOD:PUBLISH
X-WR-CALNAME:Starfish Swimming Club
X-ORIGINAL-URL:https://starfish-swimming.org.uk
X-WR-CALDESC:Events for Starfish Swimming Club
BEGIN:VTIMEZONE
TZID:UTC
BEGIN:STANDARD
TZOFFSETFROM:+0000
TZOFFSETTO:+0000
TZNAME:UTC
DTSTART:20210101T000000
END:STANDARD
END:VTIMEZONE
BEGIN:VEVENT
DTSTART;TZID=UTC:20210911T170000
DTEND;TZID=UTC:20210911T175000
DTSTAMP:20260422T135623
CREATED:20210828T084032Z
LAST-MODIFIED:20210908T094958Z
UID:1415-1631379600-1631382600@starfish-swimming.org.uk
SUMMARY:Session cancelled
DESCRIPTION:Hi All\, \nApologies but this coming week’s session 11th September is cancelled as we don’t have enough teachers to run the session\, see you on 18th. \nRegards\, \nStarfish Committee.
URL:https://starfish-swimming.org.uk/event/braywick-swim-session-20/
CATEGORIES:Club Closures,Public
END:VEVENT
END:VCALENDAR