BEGIN:VCALENDAR
VERSION:2.0
PRODID:-//Starfish Swimming Club - ECPv5.15.0//NONSGML v1.0//EN
CALSCALE:GREGORIAN
METHOD:PUBLISH
X-WR-CALNAME:Starfish Swimming Club
X-ORIGINAL-URL:https://starfish-swimming.org.uk
X-WR-CALDESC:Events for Starfish Swimming Club
BEGIN:VTIMEZONE
TZID:UTC
BEGIN:STANDARD
TZOFFSETFROM:+0000
TZOFFSETTO:+0000
TZNAME:UTC
DTSTART:20240101T000000
END:STANDARD
END:VTIMEZONE
BEGIN:VEVENT
DTSTART;TZID=UTC:20241123T170000
DTEND;TZID=UTC:20241123T180000
DTSTAMP:20260421T125331
CREATED:20240518T163544Z
LAST-MODIFIED:20240518T163544Z
UID:2968-1732381200-1732384800@starfish-swimming.org.uk
SUMMARY:Braywick swim session
DESCRIPTION:
URL:https://starfish-swimming.org.uk/event/braywick-swim-session-137/
LOCATION:Braywick Swimming Pool\, Braywick Road\, Maidenhead\, SL6 1BN\, United Kingdom
CATEGORIES:Braywick swimming,Public,Swim Sessions
END:VEVENT
END:VCALENDAR