BEGIN:VCALENDAR
VERSION:2.0
PRODID:-//Starfish Swimming Club - ECPv5.15.0//NONSGML v1.0//EN
CALSCALE:GREGORIAN
METHOD:PUBLISH
X-WR-CALNAME:Starfish Swimming Club
X-ORIGINAL-URL:https://starfish-swimming.org.uk
X-WR-CALDESC:Events for Starfish Swimming Club
BEGIN:VTIMEZONE
TZID:UTC
BEGIN:STANDARD
TZOFFSETFROM:+0000
TZOFFSETTO:+0000
TZNAME:UTC
DTSTART:20240101T000000
END:STANDARD
END:VTIMEZONE
BEGIN:VEVENT
DTSTART;TZID=UTC:20240720T050000
DTEND;TZID=UTC:20240720T050000
DTSTAMP:20260421T124920
CREATED:20240427T164313Z
LAST-MODIFIED:20240504T162257Z
UID:2927-1721451600-1721451600@starfish-swimming.org.uk
SUMMARY:No session - Summer Break
DESCRIPTION:
URL:https://starfish-swimming.org.uk/event/braywick-swim-session-127/
LOCATION:none
CATEGORIES:Braywick swimming,Public,Swim Sessions
END:VEVENT
END:VCALENDAR