BEGIN:VCALENDAR
VERSION:2.0
PRODID:-//Starfish Swimming Club - ECPv5.15.0//NONSGML v1.0//EN
CALSCALE:GREGORIAN
METHOD:PUBLISH
X-WR-CALNAME:Starfish Swimming Club
X-ORIGINAL-URL:https://starfish-swimming.org.uk
X-WR-CALDESC:Events for Starfish Swimming Club
BEGIN:VTIMEZONE
TZID:UTC
BEGIN:STANDARD
TZOFFSETFROM:+0000
TZOFFSETTO:+0000
TZNAME:UTC
DTSTART:20220101T000000
END:STANDARD
END:VTIMEZONE
BEGIN:VEVENT
DTSTART;TZID=UTC:20220205T180000
DTEND;TZID=UTC:20220205T193000
DTSTAMP:20260422T083108
CREATED:20220115T172505Z
LAST-MODIFIED:20220205T095508Z
UID:1483-1644084000-1644089400@starfish-swimming.org.uk
SUMMARY:Braywick award party
DESCRIPTION:
URL:https://starfish-swimming.org.uk/event/braywick-award-party-tbc/
LOCATION:Braywick Dance Studio\, Braywick Leisure Centre\, Maidenhead\, Berks\, Sl6 1DJ\, United Kingdom
CATEGORIES:Public
END:VEVENT
END:VCALENDAR